BEGIN:VCALENDAR
VERSION:2.0
PRODID:-//https://www.daiquirideckstarmands.com///NONSGML kigkonsult.se iCalcreator 2.10.15//
METHOD:PUBLISH
BEGIN:VEVENT
UID:20260422T022735UTC-8967il8Frg@https://www.daiquirideckstarmands.com/
DTSTAMP:20260422T022735Z
DESCRIPTION: https://www.daiquirideckstarmands.com/component/rseventspro/ev
 ent/4177-5p-matt-federici?Itemid=219
DTSTART;VALUE=DATE:20260516
LOCATION:Daiquiri Deck Bradenton Beach (107 Bridge St\, Bradenton Beach\, F
 L 34217)
SUMMARY:5p Matt Federici
URL:https://www.daiquirideckstarmands.com/component/rseventspro/event/4177-
 5p-matt-federici?Itemid=219
END:VEVENT
END:VCALENDAR
