BEGIN:VCALENDAR
VERSION:2.0
PRODID:-//https://www.daiquirideckstarmands.com///NONSGML kigkonsult.se iCalcreator 2.10.15//
METHOD:PUBLISH
BEGIN:VEVENT
UID:20260423T031533UTC-0407h79u1F@https://www.daiquirideckstarmands.com/
DTSTAMP:20260423T031533Z
DESCRIPTION: https://www.daiquirideckstarmands.com/component/rseventspro/ev
 ent/4174-7p-aaron-kelly?Itemid=219
DTSTART;VALUE=DATE:20260530
LOCATION:Daiquiri Deck Island of Venice (300 W Venice Ave\, Venice\, FL 342
 85)
SUMMARY: 7p Aaron Kelly
URL:https://www.daiquirideckstarmands.com/component/rseventspro/event/4174-
 7p-aaron-kelly?Itemid=219
END:VEVENT
END:VCALENDAR
