BEGIN:VCALENDAR
VERSION:2.0
PRODID:-//https://www.daiquirideckstarmands.com///NONSGML kigkonsult.se iCalcreator 2.10.15//
METHOD:PUBLISH
BEGIN:VEVENT
UID:20260422T130813UTC-3775Cw5k6R@https://www.daiquirideckstarmands.com/
DTSTAMP:20260422T130813Z
DESCRIPTION: https://www.daiquirideckstarmands.com/component/rseventspro/ev
 ent/4171-12p-jake-ariel?Itemid=219
DTSTART;VALUE=DATE:20260522
LOCATION:Daiquiri Deck Island of Venice (300 W Venice Ave\, Venice\, FL 342
 85)
SUMMARY:12p Jake & Ariel  
URL:https://www.daiquirideckstarmands.com/component/rseventspro/event/4171-
 12p-jake-ariel?Itemid=219
END:VEVENT
END:VCALENDAR
