BEGIN:VCALENDAR
VERSION:2.0
PRODID:-//https://www.daiquirideckstarmands.com///NONSGML kigkonsult.se iCalcreator 2.10.15//
METHOD:PUBLISH
BEGIN:VEVENT
UID:20260423T011551UTC-77937kUN3M@https://www.daiquirideckstarmands.com/
DTSTAMP:20260423T011551Z
DESCRIPTION: https://www.daiquirideckstarmands.com/component/rseventspro/ev
 ent/4161-4p-ryan-judy?Itemid=219
DTSTART;VALUE=DATE:20260529
LOCATION:Daiquiri Deck Island of Venice (300 W Venice Ave\, Venice\, FL 342
 85)
SUMMARY:4p Ryan Judy
URL:https://www.daiquirideckstarmands.com/component/rseventspro/event/4161-
 4p-ryan-judy?Itemid=219
END:VEVENT
END:VCALENDAR
