BEGIN:VCALENDAR
VERSION:2.0
PRODID:-//https://www.daiquirideckstarmands.com///NONSGML kigkonsult.se iCalcreator 2.10.15//
METHOD:PUBLISH
BEGIN:VEVENT
UID:20260422T203124UTC-5410xUV8DR@https://www.daiquirideckstarmands.com/
DTSTAMP:20260422T203124Z
DESCRIPTION: https://www.daiquirideckstarmands.com/component/rseventspro/ev
 ent/4158-12p-lonnie-paul?Itemid=219
DTSTART;VALUE=DATE:20260526
LOCATION:Daiquiri Deck Island of Venice (300 W Venice Ave\, Venice\, FL 342
 85)
SUMMARY:12p Lonnie Paul
URL:https://www.daiquirideckstarmands.com/component/rseventspro/event/4158-
 12p-lonnie-paul?Itemid=219
END:VEVENT
END:VCALENDAR
