BEGIN:VCALENDAR
VERSION:2.0
PRODID:-//https://www.daiquirideckstarmands.com///NONSGML kigkonsult.se iCalcreator 2.10.15//
METHOD:PUBLISH
BEGIN:VEVENT
UID:20260422T183143UTC-34487Xw6G1@https://www.daiquirideckstarmands.com/
DTSTAMP:20260422T183143Z
DESCRIPTION: https://www.daiquirideckstarmands.com/component/rseventspro/ev
 ent/4157-12p-groove-circle?Itemid=219
DTSTART;VALUE=DATE:20260525
LOCATION:Daiquiri Deck Island of Venice (300 W Venice Ave\, Venice\, FL 342
 85)
SUMMARY:12p Groove Circle
URL:https://www.daiquirideckstarmands.com/component/rseventspro/event/4157-
 12p-groove-circle?Itemid=219
END:VEVENT
END:VCALENDAR
