BEGIN:VCALENDAR
VERSION:2.0
PRODID:-//https://www.daiquirideckstarmands.com///NONSGML kigkonsult.se iCalcreator 2.10.15//
METHOD:PUBLISH
BEGIN:VEVENT
UID:20260422T145222UTC-1806czJVUv@https://www.daiquirideckstarmands.com/
DTSTAMP:20260422T145222Z
DESCRIPTION: https://www.daiquirideckstarmands.com/component/rseventspro/ev
 ent/4155-5p-kevin-thompson?Itemid=219
DTSTART;VALUE=DATE:20260523
LOCATION:Daiquiri Deck Island of Venice (300 W Venice Ave\, Venice\, FL 342
 85)
SUMMARY:5p Kevin Thompson
URL:https://www.daiquirideckstarmands.com/component/rseventspro/event/4155-
 5p-kevin-thompson?Itemid=219
END:VEVENT
END:VCALENDAR
