BEGIN:VCALENDAR
VERSION:2.0
PRODID:-//https://www.daiquirideckstarmands.com///NONSGML kigkonsult.se iCalcreator 2.10.15//
METHOD:PUBLISH
BEGIN:VEVENT
UID:20260422T055636UTC-56245TC4hf@https://www.daiquirideckstarmands.com/
DTSTAMP:20260422T055636Z
DESCRIPTION: https://www.daiquirideckstarmands.com/component/rseventspro/ev
 ent/4150-12p-joey-d?Itemid=219
DTSTART;VALUE=DATE:20260518
LOCATION:Daiquiri Deck Island of Venice (300 W Venice Ave\, Venice\, FL 342
 85)
SUMMARY:12p Joey D
URL:https://www.daiquirideckstarmands.com/component/rseventspro/event/4150-
 12p-joey-d?Itemid=219
END:VEVENT
END:VCALENDAR
