BEGIN:VCALENDAR
VERSION:2.0
PRODID:-//https://www.daiquirideckstarmands.com///NONSGML kigkonsult.se iCalcreator 2.10.15//
METHOD:PUBLISH
BEGIN:VEVENT
UID:20260422T041404UTC-9655z3jbWh@https://www.daiquirideckstarmands.com/
DTSTAMP:20260422T041404Z
DESCRIPTION: https://www.daiquirideckstarmands.com/component/rseventspro/ev
 ent/4149-5p-jay-simon?Itemid=219
DTSTART;VALUE=DATE:20260517
LOCATION:Daiquiri Deck Island of Venice (300 W Venice Ave\, Venice\, FL 342
 85)
SUMMARY:5p Jay Simon
URL:https://www.daiquirideckstarmands.com/component/rseventspro/event/4149-
 5p-jay-simon?Itemid=219
END:VEVENT
END:VCALENDAR
