BEGIN:VCALENDAR
VERSION:2.0
PRODID:-//https://www.daiquirideckstarmands.com///NONSGML kigkonsult.se iCalcreator 2.10.15//
METHOD:PUBLISH
BEGIN:VEVENT
UID:20260422T002601UTC-7618N2UCuP@https://www.daiquirideckstarmands.com/
DTSTAMP:20260422T002601Z
DESCRIPTION: https://www.daiquirideckstarmands.com/component/rseventspro/ev
 ent/4147-5p-jake-ariel?Itemid=219
DTSTART;VALUE=DATE:20260515
LOCATION:Daiquiri Deck Island of Venice (300 W Venice Ave\, Venice\, FL 342
 85)
SUMMARY:5p Jake & Ariel
URL:https://www.daiquirideckstarmands.com/component/rseventspro/event/4147-
 5p-jake-ariel?Itemid=219
END:VEVENT
END:VCALENDAR
