BEGIN:VCALENDAR
VERSION:2.0
PRODID:-//https://www.daiquirideckstarmands.com///NONSGML kigkonsult.se iCalcreator 2.10.15//
METHOD:PUBLISH
BEGIN:VEVENT
UID:20260421T204736UTC-39277X60Kk@https://www.daiquirideckstarmands.com/
DTSTAMP:20260421T204736Z
DESCRIPTION: https://www.daiquirideckstarmands.com/component/rseventspro/ev
 ent/4145-4p-gulf-coastin-life?Itemid=219
DTSTART;VALUE=DATE:20260513
LOCATION:Daiquiri Deck Island of Venice (300 W Venice Ave\, Venice\, FL 342
 85)
SUMMARY:4p Gulf Coastin.Life
URL:https://www.daiquirideckstarmands.com/component/rseventspro/event/4145-
 4p-gulf-coastin-life?Itemid=219
END:VEVENT
END:VCALENDAR
