BEGIN:VCALENDAR
VERSION:2.0
PRODID:-//https://www.daiquirideckstarmands.com///NONSGML kigkonsult.se iCalcreator 2.10.15//
METHOD:PUBLISH
BEGIN:VEVENT
UID:20260421T134631UTC-2663jxeOWn@https://www.daiquirideckstarmands.com/
DTSTAMP:20260421T134631Z
DESCRIPTION: https://www.daiquirideckstarmands.com/component/rseventspro/ev
 ent/4141-6p-scott-lawrence?Itemid=219
DTSTART;VALUE=DATE:20260509
LOCATION:Daiquiri Deck Island of Venice (300 W Venice Ave\, Venice\, FL 342
 85)
SUMMARY:6p Scott Lawrence
URL:https://www.daiquirideckstarmands.com/component/rseventspro/event/4141-
 6p-scott-lawrence?Itemid=219
END:VEVENT
END:VCALENDAR
