BEGIN:VCALENDAR
VERSION:2.0
PRODID:-//https://www.daiquirideckstarmands.com///NONSGML kigkonsult.se iCalcreator 2.10.15//
METHOD:PUBLISH
BEGIN:VEVENT
UID:20260423T004131UTC-38020joCib@https://www.daiquirideckstarmands.com/
DTSTAMP:20260423T004131Z
DESCRIPTION: https://www.daiquirideckstarmands.com/component/rseventspro/ev
 ent/4130-5pm-chad-tallman?Itemid=219
DTSTART;VALUE=DATE:20260529
LOCATION:Daiquiri Deck Bradenton Beach (107 Bridge St\, Bradenton Beach\, F
 L 34217)
SUMMARY:5pm Chad Tallman
URL:https://www.daiquirideckstarmands.com/component/rseventspro/event/4130-
 5pm-chad-tallman?Itemid=219
END:VEVENT
END:VCALENDAR
