BEGIN:VCALENDAR
VERSION:2.0
PRODID:-//https://www.daiquirideckstarmands.com///NONSGML kigkonsult.se iCalcreator 2.10.15//
METHOD:PUBLISH
BEGIN:VEVENT
UID:20260422T055927UTC-009439lazs@https://www.daiquirideckstarmands.com/
DTSTAMP:20260422T055927Z
DESCRIPTION: https://www.daiquirideckstarmands.com/component/rseventspro/ev
 ent/4119-3p-tim-mccaig?Itemid=219
DTSTART;VALUE=DATE:20260518
LOCATION:Daiquiri Deck Bradenton Beach (107 Bridge St\, Bradenton Beach\, F
 L 34217)
SUMMARY:3p Tim McCaig
URL:https://www.daiquirideckstarmands.com/component/rseventspro/event/4119-
 3p-tim-mccaig?Itemid=219
END:VEVENT
END:VCALENDAR
