BEGIN:VCALENDAR
VERSION:2.0
PRODID:-//https://www.daiquirideckstarmands.com///NONSGML kigkonsult.se iCalcreator 2.10.15//
METHOD:PUBLISH
BEGIN:VEVENT
UID:20260422T001216UTC-5192HFpgv6@https://www.daiquirideckstarmands.com/
DTSTAMP:20260422T001216Z
DESCRIPTION: https://www.daiquirideckstarmands.com/component/rseventspro/ev
 ent/4116-6p-ken-apperson?Itemid=219
DTSTART;VALUE=DATE:20260515
LOCATION:Daiquiri Deck Bradenton Beach (107 Bridge St\, Bradenton Beach\, F
 L 34217)
SUMMARY:6p Ken Apperson
URL:https://www.daiquirideckstarmands.com/component/rseventspro/event/4116-
 6p-ken-apperson?Itemid=219
END:VEVENT
END:VCALENDAR
