BEGIN:VCALENDAR
VERSION:2.0
PRODID:-//https://www.daiquirideckstarmands.com///NONSGML kigkonsult.se iCalcreator 2.10.15//
METHOD:PUBLISH
BEGIN:VEVENT
UID:20260421T140301UTC-8901imUPI9@https://www.daiquirideckstarmands.com/
DTSTAMP:20260421T140301Z
DESCRIPTION: https://www.daiquirideckstarmands.com/component/rseventspro/ev
 ent/4111-5p-matt-federici?Itemid=219
DTSTART;VALUE=DATE:20260509
LOCATION:Daiquiri Deck Bradenton Beach (107 Bridge St\, Bradenton Beach\, F
 L 34217)
SUMMARY:5p Matt Federici
URL:https://www.daiquirideckstarmands.com/component/rseventspro/event/4111-
 5p-matt-federici?Itemid=219
END:VEVENT
END:VCALENDAR
