BEGIN:VCALENDAR
VERSION:2.0
PRODID:-//https://www.daiquirideckstarmands.com///NONSGML kigkonsult.se iCalcreator 2.10.15//
METHOD:PUBLISH
BEGIN:VEVENT
UID:20260425T151524UTC-4600xev82e@https://www.daiquirideckstarmands.com/
DTSTAMP:20260425T151524Z
DESCRIPTION: https://www.daiquirideckstarmands.com/component/rseventspro/ev
 ent/4065-4p-gulf-coastin-life?Itemid=219
DTSTART;VALUE=DATE:20260502
LOCATION:Daiquiri Deck St. Armands Circle (325 John Ringling Blvd\, Sarasot
 a\, FL 34236)
SUMMARY: 4p Gulf Coastin.Life
URL:https://www.daiquirideckstarmands.com/component/rseventspro/event/4065-
 4p-gulf-coastin-life?Itemid=219
END:VEVENT
END:VCALENDAR
