BEGIN:VCALENDAR
VERSION:2.0
PRODID:-//https://www.daiquirideckstarmands.com///NONSGML kigkonsult.se iCalcreator 2.10.15//
METHOD:PUBLISH
BEGIN:VEVENT
UID:20260424T144642UTC-8262jxGPuZ@https://www.daiquirideckstarmands.com/
DTSTAMP:20260424T144642Z
DESCRIPTION: https://www.daiquirideckstarmands.com/component/rseventspro/ev
 ent/4063-6p-flash-back-friday-karaoke?Itemid=219
DTSTART;VALUE=DATE:20260501
LOCATION:Daiquiri Deck St. Armands Circle (325 John Ringling Blvd\, Sarasot
 a\, FL 34236)
SUMMARY: 6p Flash Back Friday Karaoke
URL:https://www.daiquirideckstarmands.com/component/rseventspro/event/4063-
 6p-flash-back-friday-karaoke?Itemid=219
END:VEVENT
END:VCALENDAR
