BEGIN:VCALENDAR
VERSION:2.0
PRODID:-//https://www.daiquirideckstarmands.com///NONSGML kigkonsult.se iCalcreator 2.10.15//
METHOD:PUBLISH
BEGIN:VEVENT
UID:20260422T085201UTC-4015VwdFvT@https://www.daiquirideckstarmands.com/
DTSTAMP:20260422T085201Z
DESCRIPTION: https://www.daiquirideckstarmands.com/component/rseventspro/ev
 ent/4010-3p-kaleb-woods?Itemid=219
DTSTART;VALUE=DATE:20260520
LOCATION:Daiquiri Deck Siesta Key Village (5250 Ocean Blvd\, Sarasota\, FL 
 34242)
SUMMARY:3p Kaleb Woods  
URL:https://www.daiquirideckstarmands.com/component/rseventspro/event/4010-
 3p-kaleb-woods?Itemid=219
END:VEVENT
END:VCALENDAR
