BEGIN:VCALENDAR
VERSION:2.0
PRODID:-//https://www.daiquirideckstarmands.com///NONSGML kigkonsult.se iCalcreator 2.10.15//
METHOD:PUBLISH
BEGIN:VEVENT
UID:20260421T222106UTC-1552GzfowJ@https://www.daiquirideckstarmands.com/
DTSTAMP:20260421T222106Z
DESCRIPTION: https://www.daiquirideckstarmands.com/component/rseventspro/ev
 ent/4002-3p-rob-garcia?Itemid=219
DTSTART;VALUE=DATE:20260514
LOCATION:Daiquiri Deck Siesta Key Village (5250 Ocean Blvd\, Sarasota\, FL 
 34242)
SUMMARY:3p Rob Garcia 
URL:https://www.daiquirideckstarmands.com/component/rseventspro/event/4002-
 3p-rob-garcia?Itemid=219
END:VEVENT
END:VCALENDAR
