BEGIN:VCALENDAR
VERSION:2.0
PRODID:-//https://www.daiquirideckstarmands.com///NONSGML kigkonsult.se iCalcreator 2.10.15//
METHOD:PUBLISH
BEGIN:VEVENT
UID:20260421T202658UTC-6563UBZjuj@https://www.daiquirideckstarmands.com/
DTSTAMP:20260421T202658Z
DESCRIPTION: https://www.daiquirideckstarmands.com/component/rseventspro/ev
 ent/4000-3p-kaleb-woods?Itemid=219
DTSTART;VALUE=DATE:20260513
LOCATION:Daiquiri Deck Siesta Key Village (5250 Ocean Blvd\, Sarasota\, FL 
 34242)
SUMMARY:3p Kaleb Woods 
URL:https://www.daiquirideckstarmands.com/component/rseventspro/event/4000-
 3p-kaleb-woods?Itemid=219
END:VEVENT
END:VCALENDAR
