BEGIN:VCALENDAR
VERSION:2.0
PRODID:-//https://www.daiquirideckstarmands.com///NONSGML kigkonsult.se iCalcreator 2.10.15//
METHOD:PUBLISH
BEGIN:VEVENT
UID:20260421T151309UTC-1458M8e1GW@https://www.daiquirideckstarmands.com/
DTSTAMP:20260421T151309Z
DESCRIPTION: https://www.daiquirideckstarmands.com/component/rseventspro/ev
 ent/3997-3p-chris-otto?Itemid=219
DTSTART;VALUE=DATE:20260510
LOCATION:Daiquiri Deck Siesta Key Village (5250 Ocean Blvd\, Sarasota\, FL 
 34242)
SUMMARY:3p Chris Otto
URL:https://www.daiquirideckstarmands.com/component/rseventspro/event/3997-
 3p-chris-otto?Itemid=219
END:VEVENT
END:VCALENDAR
