BEGIN:VCALENDAR
VERSION:2.0
PRODID:-//https://www.daiquirideckstarmands.com///NONSGML kigkonsult.se iCalcreator 2.10.15//
METHOD:PUBLISH
BEGIN:VEVENT
UID:20260421T134611UTC-24556V6aCu@https://www.daiquirideckstarmands.com/
DTSTAMP:20260421T134611Z
DESCRIPTION: https://www.daiquirideckstarmands.com/component/rseventspro/ev
 ent/3996-9p-dj-jimmy-t?Itemid=219
DTSTART;VALUE=DATE:20260509
LOCATION:Daiquiri Deck Siesta Key Village (5250 Ocean Blvd\, Sarasota\, FL 
 34242)
SUMMARY:9p DJ Jimmy T
URL:https://www.daiquirideckstarmands.com/component/rseventspro/event/3996-
 9p-dj-jimmy-t?Itemid=219
END:VEVENT
END:VCALENDAR
